BEGIN:VCALENDAR
VERSION:2.0
PRODID:-//Bear Creek Community Church - ECPv5.16.4//NONSGML v1.0//EN
CALSCALE:GREGORIAN
METHOD:PUBLISH
X-WR-CALNAME:Bear Creek Community Church
X-ORIGINAL-URL:https://bearcreekchurch.com
X-WR-CALDESC:Events for Bear Creek Community Church
BEGIN:VTIMEZONE
TZID:America/Los_Angeles
BEGIN:DAYLIGHT
TZOFFSETFROM:-0800
TZOFFSETTO:-0700
TZNAME:PDT
DTSTART:20220313T100000
END:DAYLIGHT
BEGIN:STANDARD
TZOFFSETFROM:-0700
TZOFFSETTO:-0800
TZNAME:PST
DTSTART:20221106T090000
END:STANDARD
END:VTIMEZONE
BEGIN:VEVENT
DTSTART;TZID=America/Los_Angeles:20220129T080000
DTEND;TZID=America/Los_Angeles:20220129T100000
DTSTAMP:20260420T043737
CREATED:20211206T210625Z
LAST-MODIFIED:20211206T210625Z
UID:9783-1643443200-1643450400@bearcreekchurch.com
SUMMARY:GO TEAM Appreciation Breakfast
DESCRIPTION:
URL:https://bearcreekchurch.com/event/go-team-appreciation-breakfast/
END:VEVENT
END:VCALENDAR