BEGIN:VCALENDAR
VERSION:2.0
PRODID:-//Bear Creek Community Church - ECPv5.16.4//NONSGML v1.0//EN
CALSCALE:GREGORIAN
METHOD:PUBLISH
X-WR-CALNAME:Bear Creek Community Church
X-ORIGINAL-URL:https://bearcreekchurch.com
X-WR-CALDESC:Events for Bear Creek Community Church
BEGIN:VTIMEZONE
TZID:America/Los_Angeles
BEGIN:DAYLIGHT
TZOFFSETFROM:-0800
TZOFFSETTO:-0700
TZNAME:PDT
DTSTART:20210314T100000
END:DAYLIGHT
BEGIN:STANDARD
TZOFFSETFROM:-0700
TZOFFSETTO:-0800
TZNAME:PST
DTSTART:20211107T090000
END:STANDARD
END:VTIMEZONE
BEGIN:VEVENT
DTSTART;TZID=America/Los_Angeles:20211025T183000
DTEND;TZID=America/Los_Angeles:20211027T200000
DTSTAMP:20260422T045139
CREATED:20210825T182300Z
LAST-MODIFIED:20210825T182359Z
UID:9470-1635186600-1635364800@bearcreekchurch.com
SUMMARY:Marriage Conference
DESCRIPTION:
URL:https://bearcreekchurch.com/event/marriage-conference/
END:VEVENT
END:VCALENDAR