BEGIN:VCALENDAR
VERSION:2.0
PRODID:-//Bear Creek Community Church - ECPv5.16.4//NONSGML v1.0//EN
CALSCALE:GREGORIAN
METHOD:PUBLISH
X-WR-CALNAME:Bear Creek Community Church
X-ORIGINAL-URL:https://bearcreekchurch.com
X-WR-CALDESC:Events for Bear Creek Community Church
BEGIN:VTIMEZONE
TZID:America/Los_Angeles
BEGIN:DAYLIGHT
TZOFFSETFROM:-0800
TZOFFSETTO:-0700
TZNAME:PDT
DTSTART:20210314T100000
END:DAYLIGHT
BEGIN:STANDARD
TZOFFSETFROM:-0700
TZOFFSETTO:-0800
TZNAME:PST
DTSTART:20211107T090000
END:STANDARD
END:VTIMEZONE
BEGIN:VEVENT
DTSTART;VALUE=DATE:20210801
DTEND;VALUE=DATE:20210802
DTSTAMP:20260424T070404
CREATED:20210708T211731Z
LAST-MODIFIED:20210708T211731Z
UID:9228-1627776000-1627862399@bearcreekchurch.com
SUMMARY:Baptism
DESCRIPTION:
URL:https://bearcreekchurch.com/event/baptism-6/
END:VEVENT
BEGIN:VEVENT
DTSTART;VALUE=DATE:20210801
DTEND;VALUE=DATE:20210802
DTSTAMP:20260424T070404
CREATED:20210708T212016Z
LAST-MODIFIED:20210708T212016Z
UID:9234-1627776000-1627862399@bearcreekchurch.com
SUMMARY:New Series Begins "This is Us"
DESCRIPTION:
URL:https://bearcreekchurch.com/event/new-series-begins-this-is-us/
END:VEVENT
END:VCALENDAR