BEGIN:VCALENDAR
VERSION:2.0
PRODID:-//Bear Creek Community Church - ECPv5.16.4//NONSGML v1.0//EN
CALSCALE:GREGORIAN
METHOD:PUBLISH
X-WR-CALNAME:Bear Creek Community Church
X-ORIGINAL-URL:https://bearcreekchurch.com
X-WR-CALDESC:Events for Bear Creek Community Church
BEGIN:VTIMEZONE
TZID:America/Los_Angeles
BEGIN:DAYLIGHT
TZOFFSETFROM:-0800
TZOFFSETTO:-0700
TZNAME:PDT
DTSTART:20180311T100000
END:DAYLIGHT
BEGIN:STANDARD
TZOFFSETFROM:-0700
TZOFFSETTO:-0800
TZNAME:PST
DTSTART:20181104T090000
END:STANDARD
END:VTIMEZONE
BEGIN:VEVENT
DTSTART;TZID=America/Los_Angeles:20180314T183000
DTEND;TZID=America/Los_Angeles:20180314T200000
DTSTAMP:20260422T234349
CREATED:20180308T033912Z
LAST-MODIFIED:20180308T033912Z
UID:4104-1521052200-1521057600@bearcreekchurch.com
SUMMARY:Thrive: Adults\, Youth\, Kids Classes
DESCRIPTION:
URL:https://bearcreekchurch.com/event/thrive-adults-youth-kids-classes/
END:VEVENT
END:VCALENDAR