BEGIN:VCALENDAR
VERSION:2.0
PRODID:-//Bear Creek Community Church - ECPv5.16.4//NONSGML v1.0//EN
CALSCALE:GREGORIAN
METHOD:PUBLISH
X-WR-CALNAME:Bear Creek Community Church
X-ORIGINAL-URL:https://bearcreekchurch.com
X-WR-CALDESC:Events for Bear Creek Community Church
BEGIN:VTIMEZONE
TZID:America/Los_Angeles
BEGIN:DAYLIGHT
TZOFFSETFROM:-0800
TZOFFSETTO:-0700
TZNAME:PDT
DTSTART:20210314T100000
END:DAYLIGHT
BEGIN:STANDARD
TZOFFSETFROM:-0700
TZOFFSETTO:-0800
TZNAME:PST
DTSTART:20211107T090000
END:STANDARD
END:VTIMEZONE
BEGIN:VEVENT
DTSTART;TZID=America/Los_Angeles:20211110T190000
DTEND;TZID=America/Los_Angeles:20211110T200000
DTSTAMP:20260422T044806
CREATED:20211014T222624Z
LAST-MODIFIED:20211014T222818Z
UID:9657-1636570800-1636574400@bearcreekchurch.com
SUMMARY:Mid-Week
DESCRIPTION:Pre service prayer begins at 6 pm Service starts at 7 pm
URL:https://bearcreekchurch.com/event/mid-week-60/
END:VEVENT
END:VCALENDAR