BEGIN:VCALENDAR
VERSION:2.0
PRODID:-//Bear Creek Community Church - ECPv5.16.4//NONSGML v1.0//EN
CALSCALE:GREGORIAN
METHOD:PUBLISH
X-WR-CALNAME:Bear Creek Community Church
X-ORIGINAL-URL:https://bearcreekchurch.com
X-WR-CALDESC:Events for Bear Creek Community Church
BEGIN:VTIMEZONE
TZID:America/Los_Angeles
BEGIN:DAYLIGHT
TZOFFSETFROM:-0800
TZOFFSETTO:-0700
TZNAME:PDT
DTSTART:20190310T100000
END:DAYLIGHT
BEGIN:STANDARD
TZOFFSETFROM:-0700
TZOFFSETTO:-0800
TZNAME:PST
DTSTART:20191103T090000
END:STANDARD
END:VTIMEZONE
BEGIN:VEVENT
DTSTART;TZID=America/Los_Angeles:20190325T183000
DTEND;TZID=America/Los_Angeles:20190325T193000
DTSTAMP:20260422T014004
CREATED:20190314T203015Z
LAST-MODIFIED:20190314T203312Z
UID:5937-1553538600-1553542200@bearcreekchurch.com
SUMMARY:Student Baptism Class
DESCRIPTION:2nd grade – Higschool
URL:https://bearcreekchurch.com/event/kids-youth-baptism-class/
END:VEVENT
END:VCALENDAR