BEGIN:VCALENDAR
VERSION:2.0
PRODID:-//Bear Creek Community Church - ECPv5.16.4//NONSGML v1.0//EN
CALSCALE:GREGORIAN
METHOD:PUBLISH
X-WR-CALNAME:Bear Creek Community Church
X-ORIGINAL-URL:https://bearcreekchurch.com
X-WR-CALDESC:Events for Bear Creek Community Church
BEGIN:VTIMEZONE
TZID:America/Los_Angeles
BEGIN:DAYLIGHT
TZOFFSETFROM:-0800
TZOFFSETTO:-0700
TZNAME:PDT
DTSTART:20210314T100000
END:DAYLIGHT
BEGIN:STANDARD
TZOFFSETFROM:-0700
TZOFFSETTO:-0800
TZNAME:PST
DTSTART:20211107T090000
END:STANDARD
END:VTIMEZONE
BEGIN:VEVENT
DTSTART;VALUE=DATE:20211111
DTEND;VALUE=DATE:20211112
DTSTAMP:20260422T045246
CREATED:20211014T221611Z
LAST-MODIFIED:20211014T221611Z
UID:9630-1636588800-1636675199@bearcreekchurch.com
SUMMARY:Happy Veterans Day
DESCRIPTION:
URL:https://bearcreekchurch.com/event/happy-veterans-day/
END:VEVENT
END:VCALENDAR