BEGIN:VCALENDAR
VERSION:2.0
PRODID:-//Bear Creek Community Church - ECPv5.16.4//NONSGML v1.0//EN
CALSCALE:GREGORIAN
METHOD:PUBLISH
X-WR-CALNAME:Bear Creek Community Church
X-ORIGINAL-URL:https://bearcreekchurch.com
X-WR-CALDESC:Events for Bear Creek Community Church
BEGIN:VTIMEZONE
TZID:America/Los_Angeles
BEGIN:DAYLIGHT
TZOFFSETFROM:-0800
TZOFFSETTO:-0700
TZNAME:PDT
DTSTART:20200308T100000
END:DAYLIGHT
BEGIN:STANDARD
TZOFFSETFROM:-0700
TZOFFSETTO:-0800
TZNAME:PST
DTSTART:20201101T090000
END:STANDARD
END:VTIMEZONE
BEGIN:VEVENT
DTSTART;TZID=America/Los_Angeles:20200501T190000
DTEND;TZID=America/Los_Angeles:20200501T203000
DTSTAMP:20260421T012533
CREATED:20200304T215308Z
LAST-MODIFIED:20200310T212723Z
UID:7653-1588359600-1588365000@bearcreekchurch.com
SUMMARY:Girl's Night Out
DESCRIPTION:
URL:https://bearcreekchurch.com/event/girls-night-out-9/
END:VEVENT
END:VCALENDAR