BEGIN:VCALENDAR
VERSION:2.0
PRODID:-//Bear Creek Community Church - ECPv5.16.4//NONSGML v1.0//EN
CALSCALE:GREGORIAN
METHOD:PUBLISH
X-WR-CALNAME:Bear Creek Community Church
X-ORIGINAL-URL:https://bearcreekchurch.com
X-WR-CALDESC:Events for Bear Creek Community Church
BEGIN:VTIMEZONE
TZID:America/Los_Angeles
BEGIN:DAYLIGHT
TZOFFSETFROM:-0800
TZOFFSETTO:-0700
TZNAME:PDT
DTSTART:20220313T100000
END:DAYLIGHT
BEGIN:STANDARD
TZOFFSETFROM:-0700
TZOFFSETTO:-0800
TZNAME:PST
DTSTART:20221106T090000
END:STANDARD
END:VTIMEZONE
BEGIN:VEVENT
DTSTART;VALUE=DATE:20220110
DTEND;VALUE=DATE:20220111
DTSTAMP:20260420T043634
CREATED:20211206T210041Z
LAST-MODIFIED:20211207T222405Z
UID:9771-1641772800-1641859199@bearcreekchurch.com
SUMMARY:BC Groups Begins
DESCRIPTION:
URL:https://bearcreekchurch.com/event/bc-groups-begins/
END:VEVENT
END:VCALENDAR